BEGIN:VCALENDAR
VERSION:2.0
PRODID:-//Cleantech Hub Dietikon Limmattal - ECPv6.15.20//NONSGML v1.0//EN
CALSCALE:GREGORIAN
METHOD:PUBLISH
X-ORIGINAL-URL:https://cleantechhub-dietikon.ch
X-WR-CALDESC:Veranstaltungen für Cleantech Hub Dietikon Limmattal
REFRESH-INTERVAL;VALUE=DURATION:PT1H
X-Robots-Tag:noindex
X-PUBLISHED-TTL:PT1H
BEGIN:VTIMEZONE
TZID:Europe/Helsinki
BEGIN:DAYLIGHT
TZOFFSETFROM:+0200
TZOFFSETTO:+0300
TZNAME:EEST
DTSTART:20220327T010000
END:DAYLIGHT
BEGIN:STANDARD
TZOFFSETFROM:+0300
TZOFFSETTO:+0200
TZNAME:EET
DTSTART:20221030T010000
END:STANDARD
BEGIN:DAYLIGHT
TZOFFSETFROM:+0200
TZOFFSETTO:+0300
TZNAME:EEST
DTSTART:20230326T010000
END:DAYLIGHT
BEGIN:STANDARD
TZOFFSETFROM:+0300
TZOFFSETTO:+0200
TZNAME:EET
DTSTART:20231029T010000
END:STANDARD
BEGIN:DAYLIGHT
TZOFFSETFROM:+0200
TZOFFSETTO:+0300
TZNAME:EEST
DTSTART:20240331T010000
END:DAYLIGHT
BEGIN:STANDARD
TZOFFSETFROM:+0300
TZOFFSETTO:+0200
TZNAME:EET
DTSTART:20241027T010000
END:STANDARD
END:VTIMEZONE
BEGIN:VEVENT
DTSTART;TZID=Europe/Helsinki:20230824T160000
DTEND;TZID=Europe/Helsinki:20230824T190000
DTSTAMP:20260420T123850
CREATED:20230520T162749Z
LAST-MODIFIED:20230816T124820Z
UID:10000004-1692892800-1692903600@cleantechhub-dietikon.ch
SUMMARY:Praktiker-Forum Innovation bei emost AG - AUSGEBUCHT
DESCRIPTION:AUSGEBUCHT – 1. Praktiker-Forum Innovation – Mobile elektrische Energie als fahrbare Powerbank im Industriemassstab\nSehr geehrte Damen und Herren \nEs freut uns sehr\, Sie im Namen des Cleantech Hubs Dietikon Limmattal (CTHD) zum 1. Praktiker-Forum Innovation einladen zu dürfen. \nDas Veranstaltungsformat wird in Zusammenarbeit mit dem IHV Dietikon\, der IG Silbern\, dem KMU + Gewerbe Dietikon und der Stadt Dietikon zum Thema Innovation und Zusammenarbeit organisiert. \nDas 1. Praktiker-Forum Innovation steht ganz im Zeichen der Innovation für mobile Energie\, d.h. elektrische Energie überall dort bereitzustellen\, wo sie benötigt wird\, unabhängig von bestehender Infrastruktur. Wir sind zu Besuch bei der Firma emost AG Dietikon. Herr Benedikt Domke\, CEO\, und sein Team\, gewähren uns einen spannenden Einblick in die Entwicklung ihrer neuartigen mobilen Batterien und Berichten von den Erfahrungen aus der Praxis (Lesen Sie mehr hier). \nFrau Dr. Meike V.F. Heinz\, Materialwissenschaftlerin an der Empa wird uns über die Entwicklungen und Innovationen in den Batterietechnologien informieren. \nFrau Anita Martinecz Fehér der Standortförderung – AWA Kanton Zürich spricht über das kantonale Förderprogramm „KMU Innovation“. \nWir freuen uns über Ihre Teilnahme. Die Teilnahme ist kostenlos. \nFreundliche Grüsse \nRoger Bachmann\nPräsident CTHD \nAlexander Carisch\nGeschäftsführung CTHD \n\nProgramm\n\n\n\n15.45 Uhr\nTüröffnung\n\n\n16.00 Uhr\n– Begrüssung\, Roger Bachmann\, Präsident CTHD \n– Erfolgsgeschichte – Mobile elektrische Energie\, Benedikt Domke und Team emost AG \n– Referat „Innovationen in der Batterietechnologie“\, Dr. Meike V.F. Heinz\, Materialwissenschaftlerin an der Empa \n– Referat kantonales Förderprogramm „KMU Innovation“\, Anita Martinecz Fehér\, Standortförderung – AWA Kanton Zürich\n\n\n17.30 Uhr\nRundgang emost AG\n\n\n18.00 Uhr\nNetzwerk-Apéro bis ca. 19.00 Uhr\n\n\n\n 
URL:https://cleantechhub-dietikon.ch/event/praktikerforum-innovation-mit-zukunftsweisenden-technologien-ressourcen-schonen/
LOCATION:emost AG\, Hagackerstrasse 9\, Dietikon\, 8953\, Schweiz
CATEGORIES:Eigene Events
ATTACH;FMTTYPE=image/png:https://cleantechhub-dietikon.ch/wp-content/uploads/2023/05/Praktiker-Forum-Innovation-def-Kopie.png
END:VEVENT
END:VCALENDAR