BEGIN:VCALENDAR
VERSION:2.0
PRODID:-//Cleantech Hub Dietikon Limmattal - ECPv6.15.20//NONSGML v1.0//EN
CALSCALE:GREGORIAN
METHOD:PUBLISH
X-ORIGINAL-URL:https://cleantechhub-dietikon.ch
X-WR-CALDESC:Veranstaltungen für Cleantech Hub Dietikon Limmattal
REFRESH-INTERVAL;VALUE=DURATION:PT1H
X-Robots-Tag:noindex
X-PUBLISHED-TTL:PT1H
BEGIN:VTIMEZONE
TZID:Europe/Helsinki
BEGIN:DAYLIGHT
TZOFFSETFROM:+0200
TZOFFSETTO:+0300
TZNAME:EEST
DTSTART:20230326T010000
END:DAYLIGHT
BEGIN:STANDARD
TZOFFSETFROM:+0300
TZOFFSETTO:+0200
TZNAME:EET
DTSTART:20231029T010000
END:STANDARD
BEGIN:DAYLIGHT
TZOFFSETFROM:+0200
TZOFFSETTO:+0300
TZNAME:EEST
DTSTART:20240331T010000
END:DAYLIGHT
BEGIN:STANDARD
TZOFFSETFROM:+0300
TZOFFSETTO:+0200
TZNAME:EET
DTSTART:20241027T010000
END:STANDARD
BEGIN:DAYLIGHT
TZOFFSETFROM:+0200
TZOFFSETTO:+0300
TZNAME:EEST
DTSTART:20250330T010000
END:DAYLIGHT
BEGIN:STANDARD
TZOFFSETFROM:+0300
TZOFFSETTO:+0200
TZNAME:EET
DTSTART:20251026T010000
END:STANDARD
END:VTIMEZONE
BEGIN:VEVENT
DTSTART;TZID=Europe/Helsinki:20241106T090000
DTEND;TZID=Europe/Helsinki:20241106T100000
DTSTAMP:20260419T173803
CREATED:20231128T161003Z
LAST-MODIFIED:20241021T101940Z
UID:10000135-1730883600-1730887200@cleantechhub-dietikon.ch
SUMMARY:20. Netzwerk-Kaffee Silbern
DESCRIPTION:Der Cleantech Hub Dietikon Limmattal\, das Gebietsmanagement IG Silbern und die Standortförderung Dietikon laden Sie herzlich zum Netzwerkkaffee Silbern ein. \nDie Stadt Dietikon ist ein dynamischer Wirtschaftsstandort der kurzen Wege. Die hier ansässigen Unternehmerinnen und Unternehmen pflegen einen aktiven Austausch. Das Netzwerkkaffee Silbern ist hierfür eine ideale Plattform. Nutzen Sie die Gelegenheit\, kommen Sie für einen Kaffee vorbei und werden Sie Teil dieses Netzwerks. \nNeu: Jeweils mit einem kurzen Informationsblock zu einem Unternehmen\, einer Organisation oder einer Veranstaltung. \n– Monatliche Austauschplattform am ersten Mittwoch\n– Ungezwungenes ‘get together’ – Austausch und Netzwerk\n– Keine Anmeldung notwendig\n– Gratis Kaffee und Gipfeli \nFlyer_Netzwerkkaffee_Silbern_November_24
URL:https://cleantechhub-dietikon.ch/event/20-netzwerk-kaffee-silbern/
LOCATION:Brausyndikat GmbH\, Grünaustrasse 21\, Dietikon\, 8953\, Switzerland
ATTACH;FMTTYPE=image/png:https://cleantechhub-dietikon.ch/wp-content/uploads/2023/07/Netzwerk-kaffee-silbern-def-Kopie.png
ORGANIZER;CN="Gebietsmanagement Silbern":MAILTO:gebietsmanager@silbern-dietikon.ch
END:VEVENT
END:VCALENDAR