BEGIN:VCALENDAR
VERSION:2.0
PRODID:-//Cleantech Hub Dietikon Limmattal - ECPv6.15.20//NONSGML v1.0//EN
CALSCALE:GREGORIAN
METHOD:PUBLISH
X-ORIGINAL-URL:https://cleantechhub-dietikon.ch
X-WR-CALDESC:Veranstaltungen für Cleantech Hub Dietikon Limmattal
REFRESH-INTERVAL;VALUE=DURATION:PT1H
X-Robots-Tag:noindex
X-PUBLISHED-TTL:PT1H
BEGIN:VTIMEZONE
TZID:Europe/Helsinki
BEGIN:DAYLIGHT
TZOFFSETFROM:+0200
TZOFFSETTO:+0300
TZNAME:EEST
DTSTART:20220327T010000
END:DAYLIGHT
BEGIN:STANDARD
TZOFFSETFROM:+0300
TZOFFSETTO:+0200
TZNAME:EET
DTSTART:20221030T010000
END:STANDARD
BEGIN:DAYLIGHT
TZOFFSETFROM:+0200
TZOFFSETTO:+0300
TZNAME:EEST
DTSTART:20230326T010000
END:DAYLIGHT
BEGIN:STANDARD
TZOFFSETFROM:+0300
TZOFFSETTO:+0200
TZNAME:EET
DTSTART:20231029T010000
END:STANDARD
BEGIN:DAYLIGHT
TZOFFSETFROM:+0200
TZOFFSETTO:+0300
TZNAME:EEST
DTSTART:20240331T010000
END:DAYLIGHT
BEGIN:STANDARD
TZOFFSETFROM:+0300
TZOFFSETTO:+0200
TZNAME:EET
DTSTART:20241027T010000
END:STANDARD
END:VTIMEZONE
BEGIN:VEVENT
DTSTART;TZID=Europe/Helsinki:20230906T090000
DTEND;TZID=Europe/Helsinki:20230906T100000
DTSTAMP:20260419T141958
CREATED:20230623T122207Z
LAST-MODIFIED:20230711T092928Z
UID:10000065-1693990800-1693994400@cleantechhub-dietikon.ch
SUMMARY:10. Netzwerk-Kaffee Silbern
DESCRIPTION:Der Cleantech Hub Dietikon Limmattal\, das Gebietsmanagement IG Silbern und die Standortförderung Dietikon laden Sie herzlich zum Netzwerkkaffee Silbern ein. \nDie Stadt Dietikon ist ein dynamischer Wirtschaftsstandort der kurzen Wege. Die hier ansässigen Unternehmerinnen und Unternehmen pflegen einen aktiven Austausch. Das Netzwerkkaffee Silbern ist hierfür eine ideale Plattform. Nutzen Sie die Gelegenheit\, kommen Sie für einen Kaffee vorbei und werden Sie Teil dieses Netzwerks. \nNeu: Jeweils mit einem kurzen Informationsblock zu einem Unternehmen\, einer Organisation oder einer Veranstaltung. \n– Monatliche Austauschplattform am ersten Mittwoch\n– Ungezwungenes ‘get together’ – Austausch und Netzwerk\n– Keine Anmeldung notwendig\n– Gratis Kaffee und Gipfeli
URL:https://cleantechhub-dietikon.ch/event/netzwerkkaffee-silbern-2/
LOCATION:City Plaza Dietikon\, Lerzenstrasse 10\, Dietikon\, Zürich\, 8953
ATTACH;FMTTYPE=image/png:https://cleantechhub-dietikon.ch/wp-content/uploads/2023/07/Netzwerk-kaffee-silbern-def-Kopie.png
ORGANIZER;CN="Gebietsmanagement Silbern":MAILTO:gebietsmanager@silbern-dietikon.ch
END:VEVENT
BEGIN:VEVENT
DTSTART;TZID=Europe/Helsinki:20230705T090000
DTEND;TZID=Europe/Helsinki:20230705T100000
DTSTAMP:20260419T141958
CREATED:20230622T065751Z
LAST-MODIFIED:20230623T154103Z
UID:10000066-1688547600-1688551200@cleantechhub-dietikon.ch
SUMMARY:9. Netzwerk-Kaffee Silbern
DESCRIPTION:Der Cleantech Hub Dietikon Limmattal\, das Gebietsmanagement IG Silbern und die Standortförderung Dietikon laden Sie herzlich zum Netzwerkkaffee Silbern ein. \nDie Stadt Dietikon ist ein dynamischer Wirtschaftsstandort der kurzen Wege. Die hier ansässigen Unternehmerinnen und Unternehmen pflegen einen aktiven Austausch. Das Netzwerkkaffee Silbern ist hierfür eine ideale Plattform. Nutzen Sie die Gelegenheit\, kommen Sie für einen Kaffee vorbei und werden Sie Teil dieses Netzwerks. \nNeu: Jeweils mit einem kurzen Informationsblock zu einem Unternehmen\, einer Organisation oder einer Veranstaltung. Am 05. Juli 2023 wird der Info-Block zur Phänomena sein. \n– Monatliche Austauschplattform am ersten Mittwoch\n– Ungezwungenes ‘get together’ – Austausch und Netzwerk\n– Keine Anmeldung notwendig\n– Gratis Kaffee und Gipfeli \nSponsor: SFP Swiss Finance Property Group AG
URL:https://cleantechhub-dietikon.ch/event/netzwerkkaffee-silbern/
LOCATION:City Plaza Dietikon\, Lerzenstrasse 10\, Dietikon\, Zürich\, 8953
ATTACH;FMTTYPE=image/png:https://cleantechhub-dietikon.ch/wp-content/uploads/2023/06/Netzwerk-kaffee-silbern-def-e1689067164773.png
ORGANIZER;CN="Gebietsmanagement Silbern":MAILTO:gebietsmanager@silbern-dietikon.ch
END:VEVENT
END:VCALENDAR