BEGIN:VCALENDAR
VERSION:2.0
PRODID:-//Cleantech Hub Dietikon Limmattal - ECPv6.15.20//NONSGML v1.0//EN
CALSCALE:GREGORIAN
METHOD:PUBLISH
X-WR-CALNAME:Cleantech Hub Dietikon Limmattal
X-ORIGINAL-URL:https://cleantechhub-dietikon.ch
X-WR-CALDESC:Veranstaltungen für Cleantech Hub Dietikon Limmattal
REFRESH-INTERVAL;VALUE=DURATION:PT1H
X-Robots-Tag:noindex
X-PUBLISHED-TTL:PT1H
BEGIN:VTIMEZONE
TZID:Europe/Zurich
BEGIN:DAYLIGHT
TZOFFSETFROM:+0100
TZOFFSETTO:+0200
TZNAME:CEST
DTSTART:20230326T010000
END:DAYLIGHT
BEGIN:STANDARD
TZOFFSETFROM:+0200
TZOFFSETTO:+0100
TZNAME:CET
DTSTART:20231029T010000
END:STANDARD
BEGIN:DAYLIGHT
TZOFFSETFROM:+0100
TZOFFSETTO:+0200
TZNAME:CEST
DTSTART:20240331T010000
END:DAYLIGHT
BEGIN:STANDARD
TZOFFSETFROM:+0200
TZOFFSETTO:+0100
TZNAME:CET
DTSTART:20241027T010000
END:STANDARD
BEGIN:DAYLIGHT
TZOFFSETFROM:+0100
TZOFFSETTO:+0200
TZNAME:CEST
DTSTART:20250330T010000
END:DAYLIGHT
BEGIN:STANDARD
TZOFFSETFROM:+0200
TZOFFSETTO:+0100
TZNAME:CET
DTSTART:20251026T010000
END:STANDARD
BEGIN:DAYLIGHT
TZOFFSETFROM:+0100
TZOFFSETTO:+0200
TZNAME:CEST
DTSTART:20260329T010000
END:DAYLIGHT
BEGIN:STANDARD
TZOFFSETFROM:+0200
TZOFFSETTO:+0100
TZNAME:CET
DTSTART:20261025T010000
END:STANDARD
END:VTIMEZONE
BEGIN:VTIMEZONE
TZID:Europe/Helsinki
BEGIN:DAYLIGHT
TZOFFSETFROM:+0200
TZOFFSETTO:+0300
TZNAME:EEST
DTSTART:20220327T010000
END:DAYLIGHT
BEGIN:STANDARD
TZOFFSETFROM:+0300
TZOFFSETTO:+0200
TZNAME:EET
DTSTART:20221030T010000
END:STANDARD
BEGIN:DAYLIGHT
TZOFFSETFROM:+0200
TZOFFSETTO:+0300
TZNAME:EEST
DTSTART:20230326T010000
END:DAYLIGHT
BEGIN:STANDARD
TZOFFSETFROM:+0300
TZOFFSETTO:+0200
TZNAME:EET
DTSTART:20231029T010000
END:STANDARD
BEGIN:DAYLIGHT
TZOFFSETFROM:+0200
TZOFFSETTO:+0300
TZNAME:EEST
DTSTART:20240331T010000
END:DAYLIGHT
BEGIN:STANDARD
TZOFFSETFROM:+0300
TZOFFSETTO:+0200
TZNAME:EET
DTSTART:20241027T010000
END:STANDARD
END:VTIMEZONE
BEGIN:VEVENT
DTSTART;TZID=Europe/Zurich:20250814T170000
DTEND;TZID=Europe/Zurich:20250814T193000
DTSTAMP:20260419T154352
CREATED:20250620T044604Z
LAST-MODIFIED:20250620T044644Z
UID:10000153-1755190800-1755199800@cleantechhub-dietikon.ch
SUMMARY:Einweihung «Stadtlabor Vertikalbegrünung Veloparkhaus»
DESCRIPTION:Die Begrünung unserer Städte ist eine wirkungsvolle Antwort auf die Herausforderungen des Klimawandels. Vertikale Begrünungen von Fassaden sind Teil der Lösung zur Förderung nachhaltiger und lebenswerter Plätze und Quartiere. Während begrünte Fassaden in anderen Ländern längst zum Stadtbild gehören\, stehen wir hierzulande noch am Anfang – es mangelt an Erfahrung und inspirierenden Beispielen. \nUmso mehr freut es uns\, Sie zur Einweihung des «Stadtlabors Vertikalbegrünung Veloparkhaus» am Bahnhof Dietikon vom Donnerstag\, 14. August 2025\, 17.00–19.30 Uhr\, einzuladen. \nDas Projekt «Stadtlabor Vertikalbegrünung» ist aus dem Innovationswettbewerb Phänomena Challenge 2024 hervorgegangen und entstand in enger Kooperation zwischen Wirtschaft\, Wissenschaft und der Stadt Dietikon. Das Stadtlabor dient als Plattform zum Sammeln wertvoller Erkenntnisse rund um Bau und Unterhalt sowie zur Informationsvermittlung – für Unternehmen\, Behörden und die breite Bevölkerung. \nWir freuen uns über Ihre Teilnahme an der Einweihung und bitten Sie um Anmeldung bis spätestens 3. August 2025 mit Klick auf diesem Text.
URL:https://cleantechhub-dietikon.ch/event/einweihung-stadtlabor-vertikalbegruenung-veloparkhaus/
LOCATION:Veloparkhaus Dietikon\, Bahnhofplatz\, Dietikon\, 8953\, Switzerland
CATEGORIES:Eigene Events
ORGANIZER;CN="Cleantech Hub Dietikon Limmattal":MAILTO:alexander.carisch@cthd.ch
END:VEVENT
BEGIN:VEVENT
DTSTART;TZID=Europe/Zurich:20250604T180000
DTEND;TZID=Europe/Zurich:20250604T200000
DTSTAMP:20260419T154352
CREATED:20250321T083048Z
LAST-MODIFIED:20250417T053244Z
UID:10000149-1749060000-1749067200@cleantechhub-dietikon.ch
SUMMARY:Der Roboter – unser neuer Freund und Helfer?
DESCRIPTION:Künstliche Intelligenz (KI) verändert unseren Alltag – doch wie genau?\nDiskutieren Sie mit führenden Expertinnen und Experten über die Chancen und Herausforderungen von KI und erleben Sie eine interaktive Veranstaltung mit überraschenden Einblicken. Mit dabei ist der bekannte Comedian und Unternehmer Fabian Unteregger\, der nicht nur für seine treffenden Parodien\, sondern auch für sein Engagement in der Startup-Szene bekannt ist.  Wir laden Sie herzlich ein\, KI aus einer neuen Perspektive kennenzulernen und sich aktiv in die Diskussion einzubringen. \n\nBegrüssung\n\n\n\n\nRoger Bachmann\, Stadtpräsident Dietikon\n\n\n\nMarkus Müller\, Co-Leiter Standortförderung Kanton Zürich\n\n\n\n\nImpulse & Diskussion\n\n\n\n\nStephan Sigrist (Think Tank W.I.R.E.):Warum KI oft auf Skepsis trifft – und was das für die Zukunft bedeutet.\n\n\n\nStephanie Gygax (AlgorithmWatch):Wie gestalten wir vertrauenswürdige KI für unsere Gesellschaft?\n\n\n\nFabian Unteregger (Swiss Healthcare Startups):Wie funktioniert ChatGPT – und was macht es so faszinierend?\n\n\n\nManuel Kaufmann (ETH AI Center):Welche offenen Fragen beschäftigen die Forschung derzeit?\n\n\n\nPascal Kaufmann (Mindfire):Wohin entwickelt sich die KI – und was bedeutet das für uns?\n\n\n\n\nModeration\n\n\n\n\nKathrin Hönegger (SRF Einstein) führt durch den Abend und sorgt für eine spannende\, interaktive Diskussion.\n\n  Abschluss & Apéro ca. 19:30 Uhr \nNutzen Sie die Gelegenheit\, sich über KI zu informieren\, Fragen zu stellen und sich mit Fachleuten und anderen Interessierten auszutauschen. \nWir freuen uns auf Ihre Anmeldung und Teilnahme!
URL:https://cleantechhub-dietikon.ch/event/der-roboter-unser-neuer-freund-und-helfer/
LOCATION:Kulturhaus GLEIS21\, Buchsackerstrasse 21\, Dietikon\, Zürich\, 8953\, Switzerland
ORGANIZER;CN="Cleantech Hub Dietikon Limmattal":MAILTO:alexander.carisch@cthd.ch
END:VEVENT
BEGIN:VEVENT
DTSTART;TZID=Europe/Zurich:20250401T160000
DTEND;TZID=Europe/Zurich:20250401T190000
DTSTAMP:20260419T154352
CREATED:20250123T110251Z
LAST-MODIFIED:20250206T092147Z
UID:10000145-1743523200-1743534000@cleantechhub-dietikon.ch
SUMMARY:5. Praktiker-Forum Innovation – Hans Kohler AG
DESCRIPTION:Anlässlich des 5. PFI zum Thema «Logistik der Zukunft mit hochautomatisiertem Gütertransport» stellen wir uns der Fragestellung\, welche neuen Möglichkeiten und Chancen der hochautomatisierte Gütertransport in der Logistik der Zukunft bietet. \nAn seiner Sitzung vom 13. Dezember 2024 verabschiedete der Bundesrat die Verordnung\, mit denen er das automatisierte Fahren regelt. Sie tritt am 1. März 2025 in Kraft.\nDie Teilrevision des Strassenverkehrsgesetzes (SVG) bietet die Rahmenbedingungen für das automatisierte Fahren und ermöglicht\, aktuelle und künftige Entwicklungen beim automatisierten Fahren rasch auf Schweizer Strassen einzuführen. \nGrund genug\, just einen Monat nach Inkrafttreten\, uns mit Fokussierung auf den hochautomatisierten Gütertransport und mit Augenzwinkern auf das Datum mit ernsthaftem Engagement dieser topaktuellen Herausforderung mit Fachpersonen auszutauschen. \nDatum und Ort\nDienstag\, 01. April 2025\nHans Kohler AG\, «Eventraum Giessen 13»\, Giessenstrasse 13\, 8953 Dietikon \nFolgende Themen und Referierende erwarten Sie \n\nFrau Prof. Dr. Maike Scherrer\nZHAW School of Engineering «Nachhaltige Logistik»\n«Logistik der Zukunft mit selbstfahrenden Fahrzeugen»\nHerr Pascal Kern\nAmt für Mobilität Kanton Zürich – Leiter Mobilitätsentwicklung und -steuerung\n«Strategie DiNaMo «Digitalisierung und Nachhaltigkeit der Mobilität» mit Fokus auf Logistik\nHerr Björn Lindner\nPlanzer Transport AG – Leiter Innovation\n«Hochautomatisierter Gütertransport – Pilot Max»\nHerr Hans R. Kohler\nHans Kohler AG – Verwaltungsratspräsident / Inhaber\n«Nahe beim Kunden durch effiziente Logistikprozesse»\n\nWir freuen uns über Ihre Teilnahme & Anmeldung mit Klick auf diesen Text.
URL:https://cleantechhub-dietikon.ch/event/5-praktiker-forum-innovation-hans-kohler-ag/
LOCATION:Hans Kohler AG\, Giessenstrasse 13\, Dietikon\, 8953\, Switzerland
ORGANIZER;CN="Cleantech Hub Dietikon Limmattal":MAILTO:alexander.carisch@cthd.ch
END:VEVENT
BEGIN:VEVENT
DTSTART;TZID=Europe/Zurich:20241023T154500
DTEND;TZID=Europe/Zurich:20241023T190000
DTSTAMP:20260419T154352
CREATED:20240802T092535Z
LAST-MODIFIED:20240911T130916Z
UID:10000139-1729698300-1729710000@cleantechhub-dietikon.ch
SUMMARY:4. Praktiker Forum Innovation «Drohnen: die unbemannte Revolution»
DESCRIPTION:Das «4. Praktiker-Forum Innovation» findet in Zusammenarbeit mit der international tätigen\, Dietiker Firma «Xer Technologies AG» zum Thema «Drohnen: Die unbemannte Revolution» statt und fokussiert das Thema der Innovationen rund um hybride Drohnen-Technologien. \nWeitere Informationen und zur Anmeldung geht es hier lang: https://cleantechhub-dietikon.ch/4-praktiker-forum-innovation-drohnen-die-unbemannte-revolution-xer-technologies-ag/
URL:https://cleantechhub-dietikon.ch/event/4-praktiker-forum-innovation/
LOCATION:Forum Stadtentwicklung\, Innovation und Kultur\, Zentralstrasse 12\, 8953 Dietikon\, Zentralstrasse 12\, Dietikon\, Zürich\, 8953\, Schweiz
CATEGORIES:Eigene Events
ATTACH;FMTTYPE=image/png:https://cleantechhub-dietikon.ch/wp-content/uploads/2024/04/cleantech-hub-dietikon-Quadratisch-2-Farbig-Original.png
ORGANIZER;CN="Cleantech Hub Dietikon Limmattal":MAILTO:alexander.carisch@cthd.ch
END:VEVENT
BEGIN:VEVENT
DTSTART;TZID=Europe/Zurich:20240614T150000
DTEND;TZID=Europe/Zurich:20240614T180000
DTSTAMP:20260419T154352
CREATED:20240426T081741Z
LAST-MODIFIED:20240426T163807Z
UID:10000138-1718377200-1718388000@cleantechhub-dietikon.ch
SUMMARY:3. Praktiker Forum Innovation
DESCRIPTION:Einfluss der Elektromobilität auf die Logistik der Zukunft \nBeim 3. Praktiker Forum Innovation steht Thema Elektromobilität und deren Einfluss auf die Logistik der Zukunft im Zentrum. \nFür weitere Informationen und zur Anmeldungen mit Klick hier oder via QR-Code
URL:https://cleantechhub-dietikon.ch/event/3-praktiker-forum-innovation/
LOCATION:RENAULT TRUCKS (Schweiz) AG\, Heimstrasse 45\, Dietikon\, 8953\, Schweiz
CATEGORIES:Eigene Events
ATTACH;FMTTYPE=image/png:https://cleantechhub-dietikon.ch/wp-content/uploads/2023/05/Praktiker-Forum-Innovation-def-Kopie.png
ORGANIZER;CN="Cleantech Hub Dietikon Limmattal":MAILTO:alexander.carisch@cthd.ch
END:VEVENT
BEGIN:VEVENT
DTSTART;TZID=Europe/Helsinki:20230607T090000
DTEND;TZID=Europe/Helsinki:20230607T100000
DTSTAMP:20260419T154352
CREATED:20230520T163120Z
LAST-MODIFIED:20230525T130250Z
UID:10000005-1686128400-1686132000@cleantechhub-dietikon.ch
SUMMARY:Cleantech Hub Connect | 8. Netzwerk-Kaffee Silbern
DESCRIPTION:Preis: Kostenlos \nHinweise: Wiederkehrend\, immer am ersten Mittwoch des Monats \nAnmeldung: Nicht erforderlich \nBeschreibung: Cleantech-Connect wird in Kooperation mit IG Silbern durchgeführt und ist ein Netzwerk- und Austauschanlass für Unternehmen aus Industrie und Gewerbe aus der Region. \nSponsor: SFP
URL:https://cleantechhub-dietikon.ch/event/cleantech-hub-connect/
CATEGORIES:Eigene Events
ORGANIZER;CN="Cleantech Hub Dietikon Limmattal":MAILTO:alexander.carisch@cthd.ch
END:VEVENT
END:VCALENDAR